BEGIN:VCALENDAR
VERSION:2.0
PRODID:-//The Masters Pro Golf Tour - ECPv6.15.20//NONSGML v1.0//EN
CALSCALE:GREGORIAN
METHOD:PUBLISH
X-WR-CALNAME:The Masters Pro Golf Tour
X-ORIGINAL-URL:https://themastersprogolftour.com
X-WR-CALDESC:Events for The Masters Pro Golf Tour
REFRESH-INTERVAL;VALUE=DURATION:PT1H
X-Robots-Tag:noindex
X-PUBLISHED-TTL:PT1H
BEGIN:VTIMEZONE
TZID:Europe/London
BEGIN:DAYLIGHT
TZOFFSETFROM:+0000
TZOFFSETTO:+0100
TZNAME:BST
DTSTART:20250330T010000
END:DAYLIGHT
BEGIN:STANDARD
TZOFFSETFROM:+0100
TZOFFSETTO:+0000
TZNAME:GMT
DTSTART:20251026T010000
END:STANDARD
BEGIN:DAYLIGHT
TZOFFSETFROM:+0000
TZOFFSETTO:+0100
TZNAME:BST
DTSTART:20260329T010000
END:DAYLIGHT
BEGIN:STANDARD
TZOFFSETFROM:+0100
TZOFFSETTO:+0000
TZNAME:GMT
DTSTART:20261025T010000
END:STANDARD
BEGIN:DAYLIGHT
TZOFFSETFROM:+0000
TZOFFSETTO:+0100
TZNAME:BST
DTSTART:20270328T010000
END:DAYLIGHT
BEGIN:STANDARD
TZOFFSETFROM:+0100
TZOFFSETTO:+0000
TZNAME:GMT
DTSTART:20271031T010000
END:STANDARD
END:VTIMEZONE
BEGIN:VEVENT
DTSTART;VALUE=DATE:20260401
DTEND;VALUE=DATE:20260403
DTSTAMP:20260421T110008
CREATED:20260118T210205Z
LAST-MODIFIED:20260118T210420Z
UID:7067-1775001600-1775174399@themastersprogolftour.com
SUMMARY:KINGTON GOLF CLUB\,  HR5 3RE
DESCRIPTION:A new and exciting venue for our tour\, Kington Golf Club described by Golf World as a “hidden Gem\, and ranked in the Golf World top 100.   The highest course in England !\nA perfect season opener for 2026 as guests of the club. \nDay one tee times from 11am and Day two from 10.30
URL:https://themastersprogolftour.com/event/kington-golf-club-hr5-3re/
ATTACH;FMTTYPE=image/jpeg:https://themastersprogolftour.com/wp-content/uploads/2026/01/IMG_0857.jpeg
END:VEVENT
END:VCALENDAR